BEGIN:VCALENDAR
VERSION:2.0
PRODID:-//ProLoco Mussolente Casoni - ECPv6.15.20//NONSGML v1.0//EN
CALSCALE:GREGORIAN
METHOD:PUBLISH
X-WR-CALNAME:ProLoco Mussolente Casoni
X-ORIGINAL-URL:https://prolocomussolentecasoniaps.it
X-WR-CALDESC:Eventi per ProLoco Mussolente Casoni
REFRESH-INTERVAL;VALUE=DURATION:PT1H
X-Robots-Tag:noindex
X-PUBLISHED-TTL:PT1H
BEGIN:VTIMEZONE
TZID:Europe/Rome
BEGIN:DAYLIGHT
TZOFFSETFROM:+0100
TZOFFSETTO:+0200
TZNAME:CEST
DTSTART:20240331T010000
END:DAYLIGHT
BEGIN:STANDARD
TZOFFSETFROM:+0200
TZOFFSETTO:+0100
TZNAME:CET
DTSTART:20241027T010000
END:STANDARD
BEGIN:DAYLIGHT
TZOFFSETFROM:+0100
TZOFFSETTO:+0200
TZNAME:CEST
DTSTART:20250330T010000
END:DAYLIGHT
BEGIN:STANDARD
TZOFFSETFROM:+0200
TZOFFSETTO:+0100
TZNAME:CET
DTSTART:20251026T010000
END:STANDARD
BEGIN:DAYLIGHT
TZOFFSETFROM:+0100
TZOFFSETTO:+0200
TZNAME:CEST
DTSTART:20260329T010000
END:DAYLIGHT
BEGIN:STANDARD
TZOFFSETFROM:+0200
TZOFFSETTO:+0100
TZNAME:CET
DTSTART:20261025T010000
END:STANDARD
BEGIN:DAYLIGHT
TZOFFSETFROM:+0100
TZOFFSETTO:+0200
TZNAME:CEST
DTSTART:20270328T010000
END:DAYLIGHT
BEGIN:STANDARD
TZOFFSETFROM:+0200
TZOFFSETTO:+0100
TZNAME:CET
DTSTART:20271031T010000
END:STANDARD
END:VTIMEZONE
BEGIN:VEVENT
DTSTART;TZID=Europe/Rome:20251212T203000
DTEND;TZID=Europe/Rome:20251212T203000
DTSTAMP:20260419T174226
CREATED:20251120T140038Z
LAST-MODIFIED:20251202T101822Z
UID:2242-1765571400-1765571400@prolocomussolentecasoniaps.it
SUMMARY:Presentazione del libro "Parola d'ordine Trento" a cura del Gr.Alpini Casoni
DESCRIPTION:
URL:https://prolocomussolentecasoniaps.it/evento/presentazione-del-libro-parola-dordine-trento-a-cura-del-gr-alpini-casoni/
LOCATION:Sala consiliare Comunale\, Piazza della Vittoria 2\, Mussolente\, 36065\, Italy
CATEGORIES:Book launch
ATTACH;FMTTYPE=image/jpeg:https://prolocomussolentecasoniaps.it/wp-content/uploads/2025/11/WhatsApp-Image-2025-11-20-at-15.02.20.jpeg
END:VEVENT
BEGIN:VEVENT
DTSTART;TZID=Europe/Rome:20260119T210000
DTEND;TZID=Europe/Rome:20260119T210000
DTSTAMP:20260419T174226
CREATED:20260115T074211Z
LAST-MODIFIED:20260115T092638Z
UID:2405-1768856400-1768856400@prolocomussolentecasoniaps.it
SUMMARY:Presentazione del Libro "SONO STATO UN NUMERO"
DESCRIPTION:Presentazione del Libro “SONO STATO UN NUMERO” Del Generale Roberto Ricciardi\,che si terra lunedi 19 gennaio alle 21.00 presso sala conferenze del Polo Culturale di Mussolente
URL:https://prolocomussolentecasoniaps.it/evento/giornata-della-memoria/
LOCATION:Polo Culturale Giampaolo Negri\, via Dante Alighieri\, Mussolente\, 36065\, Italy
CATEGORIES:Book launch
ATTACH;FMTTYPE=application/pdf:https://prolocomussolentecasoniaps.it/wp-content/uploads/2026/01/Sono-stato-un-numero.pdf
END:VEVENT
BEGIN:VEVENT
DTSTART;TZID=Europe/Rome:20260320T183000
DTEND;TZID=Europe/Rome:20260320T200000
DTSTAMP:20260419T174226
CREATED:20260306T092922Z
LAST-MODIFIED:20260306T094955Z
UID:2588-1774031400-1774036800@prolocomussolentecasoniaps.it
SUMMARY:Aperitivo con l'Autore
DESCRIPTION:
URL:https://prolocomussolentecasoniaps.it/evento/aperitivo-con-lautore/
LOCATION:Polo Culturale Giampaolo Negri\, via Dante Alighieri\, Mussolente\, 36065\, Italy
CATEGORIES:Book launch
ATTACH;FMTTYPE=image/jpeg:https://prolocomussolentecasoniaps.it/wp-content/uploads/2026/03/WhatsApp-Image-2026-03-06-at-10.21.05.jpeg
END:VEVENT
BEGIN:VEVENT
DTSTART;TZID=Europe/Rome:20260417T183000
DTEND;TZID=Europe/Rome:20260417T200000
DTSTAMP:20260419T174226
CREATED:20260306T093114Z
LAST-MODIFIED:20260413T105418Z
UID:2593-1776450600-1776456000@prolocomussolentecasoniaps.it
SUMMARY:Aperitivo con l'Autore con Luca Boglia
DESCRIPTION:Luca boglia presenterà il suo libro “A Due passi Dal mare”
URL:https://prolocomussolentecasoniaps.it/evento/aperitivo-con-lautore-2/
LOCATION:Polo Culturale Giampaolo Negri\, via Dante Alighieri\, Mussolente\, 36065\, Italy
CATEGORIES:Book launch
ATTACH;FMTTYPE=image/jpeg:https://prolocomussolentecasoniaps.it/wp-content/uploads/2026/03/WhatsApp-Image-2026-04-13-at-11.12.48.jpeg
END:VEVENT
BEGIN:VEVENT
DTSTART;TZID=Europe/Rome:20260508T183000
DTEND;TZID=Europe/Rome:20260508T200000
DTSTAMP:20260419T174226
CREATED:20260306T093313Z
LAST-MODIFIED:20260306T095218Z
UID:2595-1778265000-1778270400@prolocomussolentecasoniaps.it
SUMMARY:Aperitivo con l'Autore
DESCRIPTION:
URL:https://prolocomussolentecasoniaps.it/evento/aperitivo-con-lautore-3/
LOCATION:Polo Culturale Giampaolo Negri\, via Dante Alighieri\, Mussolente\, 36065\, Italy
CATEGORIES:Book launch
END:VEVENT
BEGIN:VEVENT
DTSTART;TZID=Europe/Rome:20260522T183000
DTEND;TZID=Europe/Rome:20260522T200000
DTSTAMP:20260419T174226
CREATED:20260306T093447Z
LAST-MODIFIED:20260306T095330Z
UID:2597-1779474600-1779480000@prolocomussolentecasoniaps.it
SUMMARY:Aperitivo con l'autore
DESCRIPTION:
URL:https://prolocomussolentecasoniaps.it/evento/aperitivo-con-lautore-4/
LOCATION:Polo Culturale Giampaolo Negri\, via Dante Alighieri\, Mussolente\, 36065\, Italy
CATEGORIES:Book launch
END:VEVENT
BEGIN:VEVENT
DTSTART;TZID=Europe/Rome:20260605T183000
DTEND;TZID=Europe/Rome:20260605T200000
DTSTAMP:20260419T174226
CREATED:20260306T093628Z
LAST-MODIFIED:20260306T095500Z
UID:2599-1780684200-1780689600@prolocomussolentecasoniaps.it
SUMMARY:Aperivo con l'Autore
DESCRIPTION:
URL:https://prolocomussolentecasoniaps.it/evento/aperivo-con-lautore/
LOCATION:Polo Culturale Giampaolo Negri\, via Dante Alighieri\, Mussolente\, 36065\, Italy
CATEGORIES:Book launch
END:VEVENT
END:VCALENDAR