BEGIN:VCALENDAR
VERSION:2.0
PRODID:-//ProLoco Mussolente Casoni - ECPv6.15.20//NONSGML v1.0//EN
CALSCALE:GREGORIAN
METHOD:PUBLISH
X-ORIGINAL-URL:https://prolocomussolentecasoniaps.it
X-WR-CALDESC:Eventi per ProLoco Mussolente Casoni
REFRESH-INTERVAL;VALUE=DURATION:PT1H
X-Robots-Tag:noindex
X-PUBLISHED-TTL:PT1H
BEGIN:VTIMEZONE
TZID:Europe/Rome
BEGIN:DAYLIGHT
TZOFFSETFROM:+0100
TZOFFSETTO:+0200
TZNAME:CEST
DTSTART:20240331T010000
END:DAYLIGHT
BEGIN:STANDARD
TZOFFSETFROM:+0200
TZOFFSETTO:+0100
TZNAME:CET
DTSTART:20241027T010000
END:STANDARD
BEGIN:DAYLIGHT
TZOFFSETFROM:+0100
TZOFFSETTO:+0200
TZNAME:CEST
DTSTART:20250330T010000
END:DAYLIGHT
BEGIN:STANDARD
TZOFFSETFROM:+0200
TZOFFSETTO:+0100
TZNAME:CET
DTSTART:20251026T010000
END:STANDARD
BEGIN:DAYLIGHT
TZOFFSETFROM:+0100
TZOFFSETTO:+0200
TZNAME:CEST
DTSTART:20260329T010000
END:DAYLIGHT
BEGIN:STANDARD
TZOFFSETFROM:+0200
TZOFFSETTO:+0100
TZNAME:CET
DTSTART:20261025T010000
END:STANDARD
END:VTIMEZONE
BEGIN:VEVENT
DTSTART;TZID=Europe/Rome:20251102T000000
DTEND;TZID=Europe/Rome:20251102T000000
DTSTAMP:20260421T064236
CREATED:20251021T142020Z
LAST-MODIFIED:20251117T211156Z
UID:1672-1762041600-1762041600@prolocomussolentecasoniaps.it
SUMMARY:SANTA MESSA A RICORDO DI TUTTI I CADUTI
DESCRIPTION:
URL:https://prolocomussolentecasoniaps.it/evento/santa-messa-a-ricordo-di-tutti-i-caduti/
CATEGORIES:Cerimonia- Commemorazione
END:VEVENT
BEGIN:VEVENT
DTSTART;TZID=Europe/Rome:20251123T100000
DTEND;TZID=Europe/Rome:20251123T230000
DTSTAMP:20260421T064236
CREATED:20251120T131149Z
LAST-MODIFIED:20251120T141657Z
UID:2232-1763892000-1763938800@prolocomussolentecasoniaps.it
SUMMARY:Saluto a Don Alessandro-ore 10 s.Messa a Casoni (Celebrazione degli Anniversari di matrimonio)
DESCRIPTION:
URL:https://prolocomussolentecasoniaps.it/evento/saluto-a-don-alessandro-ore-10-s-messa-a-casoni-celebrazione-degli-anniversari-di-matrimonio/
CATEGORIES:Cerimonia- Commemorazione
END:VEVENT
BEGIN:VEVENT
DTSTART;TZID=Europe/Rome:20251130T080000
DTEND;TZID=Europe/Rome:20251130T170000
DTSTAMP:20260421T064236
CREATED:20251120T131241Z
LAST-MODIFIED:20251120T141619Z
UID:2234-1764489600-1764522000@prolocomussolentecasoniaps.it
SUMMARY:Saluto a Don Alessandro-ore 9.30  s.Messa a Mussolente
DESCRIPTION:
URL:https://prolocomussolentecasoniaps.it/evento/saluto-a-don-alessandro-ore-9-30-s-messa-a-mussolente/
LOCATION:Chiesa parrocchiale Mussolente\, Via Vescovo dal Monte\, 14\, Mussolente\, 36065\, Italy
CATEGORIES:Cerimonia- Commemorazione
END:VEVENT
END:VCALENDAR