BEGIN:VCALENDAR
VERSION:2.0
PRODID:-//ProLoco Mussolente Casoni - ECPv6.15.20//NONSGML v1.0//EN
CALSCALE:GREGORIAN
METHOD:PUBLISH
X-WR-CALNAME:ProLoco Mussolente Casoni
X-ORIGINAL-URL:https://prolocomussolentecasoniaps.it
X-WR-CALDESC:Eventi per ProLoco Mussolente Casoni
REFRESH-INTERVAL;VALUE=DURATION:PT1H
X-Robots-Tag:noindex
X-PUBLISHED-TTL:PT1H
BEGIN:VTIMEZONE
TZID:Europe/Rome
BEGIN:DAYLIGHT
TZOFFSETFROM:+0100
TZOFFSETTO:+0200
TZNAME:CEST
DTSTART:19690531T230000
END:DAYLIGHT
BEGIN:STANDARD
TZOFFSETFROM:+0200
TZOFFSETTO:+0100
TZNAME:CET
DTSTART:19690927T230000
END:STANDARD
BEGIN:DAYLIGHT
TZOFFSETFROM:+0100
TZOFFSETTO:+0200
TZNAME:CEST
DTSTART:19700530T230000
END:DAYLIGHT
BEGIN:STANDARD
TZOFFSETFROM:+0200
TZOFFSETTO:+0100
TZNAME:CET
DTSTART:19700926T230000
END:STANDARD
BEGIN:DAYLIGHT
TZOFFSETFROM:+0100
TZOFFSETTO:+0200
TZNAME:CEST
DTSTART:19710522T230000
END:DAYLIGHT
BEGIN:STANDARD
TZOFFSETFROM:+0200
TZOFFSETTO:+0100
TZNAME:CET
DTSTART:19710925T230000
END:STANDARD
END:VTIMEZONE
BEGIN:VEVENT
DTSTART;TZID=Europe/Rome:20260421T173812
DTEND;TZID=Europe/Rome:20260421T173812
DTSTAMP:20260421T173812
CREATED:20250604T191809Z
LAST-MODIFIED:20251117T211156Z
UID:756-0-0@prolocomussolentecasoniaps.it
SUMMARY:EVENT NAME
DESCRIPTION:EVENT DESCRIPTION
URL:https://prolocomussolentecasoniaps.it/evento/__trashed-4__trashed/
CATEGORIES:EVENT CATEGORY
END:VEVENT
END:VCALENDAR