BEGIN:VCALENDAR
VERSION:2.0
PRODID:-//ProLoco Mussolente Casoni - ECPv6.15.20//NONSGML v1.0//EN
CALSCALE:GREGORIAN
METHOD:PUBLISH
X-ORIGINAL-URL:https://prolocomussolentecasoniaps.it
X-WR-CALDESC:Eventi per ProLoco Mussolente Casoni
REFRESH-INTERVAL;VALUE=DURATION:PT1H
X-Robots-Tag:noindex
X-PUBLISHED-TTL:PT1H
BEGIN:VTIMEZONE
TZID:Europe/Rome
BEGIN:DAYLIGHT
TZOFFSETFROM:+0100
TZOFFSETTO:+0200
TZNAME:CEST
DTSTART:20240331T010000
END:DAYLIGHT
BEGIN:STANDARD
TZOFFSETFROM:+0200
TZOFFSETTO:+0100
TZNAME:CET
DTSTART:20241027T010000
END:STANDARD
BEGIN:DAYLIGHT
TZOFFSETFROM:+0100
TZOFFSETTO:+0200
TZNAME:CEST
DTSTART:20250330T010000
END:DAYLIGHT
BEGIN:STANDARD
TZOFFSETFROM:+0200
TZOFFSETTO:+0100
TZNAME:CET
DTSTART:20251026T010000
END:STANDARD
BEGIN:DAYLIGHT
TZOFFSETFROM:+0100
TZOFFSETTO:+0200
TZNAME:CEST
DTSTART:20260329T010000
END:DAYLIGHT
BEGIN:STANDARD
TZOFFSETFROM:+0200
TZOFFSETTO:+0100
TZNAME:CET
DTSTART:20261025T010000
END:STANDARD
END:VTIMEZONE
BEGIN:VEVENT
DTSTART;TZID=Europe/Rome:20251202T203000
DTEND;TZID=Europe/Rome:20251202T223000
DTSTAMP:20260420T202946
CREATED:20251113T173303Z
LAST-MODIFIED:20251113T173303Z
UID:1907-1764707400-1764714600@prolocomussolentecasoniaps.it
SUMMARY:Presentazione del libro "Pio Zardo\, una vita per la pittura\, una pittura per la vita" 
DESCRIPTION:Martedì 2 dicembre 2025 alle ore 20.30 presso il Polo Culturale G.P. Negri di Mussolente \nPresentazione del libro “Pio Zardo\, una vita per la pittura\, una pittura per la vita” di Franca Tonelli \nPresentazione: Prof.ssa Arletta Martinello. \nLetture di Veronica De Martin\, Accompagnamento musicale di Maestro Simone Favero
URL:https://prolocomussolentecasoniaps.it/evento/presentazione-del-libro-pio-zardo-una-vita-per-la-pittura-una-pittura-per-la-vita/
LOCATION:Polo Culturale Giampaolo Negri\, via Dante Alighieri\, Mussolente\, 36065\, Italy
CATEGORIES:Book launch
END:VEVENT
BEGIN:VEVENT
DTSTART;TZID=Europe/Rome:20251205T080000
DTEND;TZID=Europe/Rome:20251214T170000
DTSTAMP:20260420T202946
CREATED:20251204T105624Z
LAST-MODIFIED:20251204T105820Z
UID:2287-1764921600-1765731600@prolocomussolentecasoniaps.it
SUMMARY:Sapore di Mare(Patrimonio Marittimo Umaghese
DESCRIPTION:
URL:https://prolocomussolentecasoniaps.it/evento/sapore-di-marepatrimonio-marittimo-umaghese/
LOCATION:Polo Culturale Giampaolo Negri\, via Dante Alighieri\, Mussolente\, 36065\, Italy
CATEGORIES:Mostra-Evento
ATTACH;FMTTYPE=image/jpeg:https://prolocomussolentecasoniaps.it/wp-content/uploads/2025/12/WhatsApp-Image-2025-11-25-at-18.26.53-1.jpeg
END:VEVENT
BEGIN:VEVENT
DTSTART;TZID=Europe/Rome:20251205T203000
DTEND;TZID=Europe/Rome:20251205T220000
DTSTAMP:20260420T202946
CREATED:20251202T114105Z
LAST-MODIFIED:20251202T114105Z
UID:2276-1764966600-1764972000@prolocomussolentecasoniaps.it
SUMMARY:Serata delle Eccellenze
DESCRIPTION:Saranno Consegnate le borse di studio agli studenti meritevoli e i riconoscimenti per chi si è distinto nello Sport\, nel Volontariato\, nel Lavoro \,nella Cultura nel Corso del 2025
URL:https://prolocomussolentecasoniaps.it/evento/serata-delle-eccellenze/
LOCATION:Centri Sportivi\, Via Dante Alighieri 47\, Mussolente (VI)\, 36065\, Italy
CATEGORIES:Cerimonia- Commemorazione
ATTACH;FMTTYPE=image/jpeg:https://prolocomussolentecasoniaps.it/wp-content/uploads/2025/12/WhatsApp-Image-2025-12-02-at-11.28.05.jpeg
END:VEVENT
BEGIN:VEVENT
DTSTART;TZID=Europe/Rome:20251206T080000
DTEND;TZID=Europe/Rome:20251208T170000
DTSTAMP:20260420T202946
CREATED:20251201T203941Z
LAST-MODIFIED:20251201T203941Z
UID:2270-1765008000-1765213200@prolocomussolentecasoniaps.it
SUMMARY:Mercatini di Natale
DESCRIPTION:
URL:https://prolocomussolentecasoniaps.it/evento/mercatini-di-natale/
CATEGORIES:Family Fun,Nightlife,Party
ATTACH;FMTTYPE=image/jpeg:https://prolocomussolentecasoniaps.it/wp-content/uploads/2025/12/WhatsApp-Image-2025-12-01-at-19.29.26.jpeg
END:VEVENT
BEGIN:VEVENT
DTSTART;TZID=Europe/Rome:20251206T093000
DTEND;TZID=Europe/Rome:20251206T213000
DTSTAMP:20260420T202946
CREATED:20251202T114510Z
LAST-MODIFIED:20251202T114510Z
UID:2280-1765013400-1765056600@prolocomussolentecasoniaps.it
SUMMARY:Inaugurazione scuola secondaria G.Giardino
DESCRIPTION:Investimento nel futuro dei Ragazzi.
URL:https://prolocomussolentecasoniaps.it/evento/inaugurazione-scuola-secondaria-g-giardino/
ATTACH;FMTTYPE=image/jpeg:https://prolocomussolentecasoniaps.it/wp-content/uploads/2025/12/WhatsApp-Image-2025-12-02-at-11.28.05-1.jpeg
END:VEVENT
BEGIN:VEVENT
DTSTART;TZID=Europe/Rome:20251207T000000
DTEND;TZID=Europe/Rome:20251207T000000
DTSTAMP:20260420T202946
CREATED:20251021T142021Z
LAST-MODIFIED:20251117T211157Z
UID:1679-1765065600-1765065600@prolocomussolentecasoniaps.it
SUMMARY:PRANZO SOCIALE 2025– TESSERAMENTO 2026
DESCRIPTION:
URL:https://prolocomussolentecasoniaps.it/evento/pranzo-sociale-2025-tesseramento-2026/
END:VEVENT
BEGIN:VEVENT
DTSTART;TZID=Europe/Rome:20251207T000000
DTEND;TZID=Europe/Rome:20251207T000000
DTSTAMP:20260420T202946
CREATED:20251021T142021Z
LAST-MODIFIED:20251117T211202Z
UID:1680-1765065600-1765065600@prolocomussolentecasoniaps.it
SUMMARY:FESTA DI RINGRAZIAMENTO REPARTO
DESCRIPTION:
URL:https://prolocomussolentecasoniaps.it/evento/festa-di-ringraziamento-reparto/
END:VEVENT
BEGIN:VEVENT
DTSTART;TZID=Europe/Rome:20251208T000000
DTEND;TZID=Europe/Rome:20251208T000000
DTSTAMP:20260420T202946
CREATED:20251021T142021Z
LAST-MODIFIED:20251119T135051Z
UID:1681-1765152000-1765152000@prolocomussolentecasoniaps.it
SUMMARY:FESTA AZIONE CATTOLICA
DESCRIPTION:
URL:https://prolocomussolentecasoniaps.it/evento/festa-azione-cattolica/
CATEGORIES:Party
END:VEVENT
BEGIN:VEVENT
DTSTART;TZID=Europe/Rome:20251209T080000
DTEND;TZID=Europe/Rome:20251210T170000
DTSTAMP:20260420T202946
CREATED:20251209T081224Z
LAST-MODIFIED:20251209T081224Z
UID:2293-1765267200-1765386000@prolocomussolentecasoniaps.it
SUMMARY:Il Canto della Stella
DESCRIPTION:Il Comitato Genitori SCUOLA INFANZIA MUSSOLENTE vi annuncia il canto della stella il 9- 10- 15- 16 Dicembre per portare la Lieta Novella e i doni in tutte le case…Il 9/12 sono invitati tutti i bambini della Scuola d’infanzia
URL:https://prolocomussolentecasoniaps.it/evento/il-canto-della-stella/
LOCATION:Scuola dell’Infanza\, via Roma 16\, Mussolente\, 36065\, Italy
CATEGORIES:Family Fun
ATTACH;FMTTYPE=image/jpeg:https://prolocomussolentecasoniaps.it/wp-content/uploads/2025/12/WhatsApp-Image-2025-12-09-at-09.02.25.jpeg
END:VEVENT
BEGIN:VEVENT
DTSTART;TZID=Europe/Rome:20251212T203000
DTEND;TZID=Europe/Rome:20251212T203000
DTSTAMP:20260420T202946
CREATED:20251120T140038Z
LAST-MODIFIED:20251202T101822Z
UID:2242-1765571400-1765571400@prolocomussolentecasoniaps.it
SUMMARY:Presentazione del libro "Parola d'ordine Trento" a cura del Gr.Alpini Casoni
DESCRIPTION:
URL:https://prolocomussolentecasoniaps.it/evento/presentazione-del-libro-parola-dordine-trento-a-cura-del-gr-alpini-casoni/
LOCATION:Sala consiliare Comunale\, Piazza della Vittoria 2\, Mussolente\, 36065\, Italy
CATEGORIES:Book launch
ATTACH;FMTTYPE=image/jpeg:https://prolocomussolentecasoniaps.it/wp-content/uploads/2025/11/WhatsApp-Image-2025-11-20-at-15.02.20.jpeg
END:VEVENT
BEGIN:VEVENT
DTSTART;TZID=Europe/Rome:20251213T000000
DTEND;TZID=Europe/Rome:20251213T000000
DTSTAMP:20260420T202946
CREATED:20251021T142021Z
LAST-MODIFIED:20251117T211202Z
UID:1682-1765584000-1765584000@prolocomussolentecasoniaps.it
SUMMARY:FESTA DI NATALE SCUOLA DELL’INFANZIA NIDO INTEGRATO E SEZIONE PRIMAVERA
DESCRIPTION:
URL:https://prolocomussolentecasoniaps.it/evento/festa-di-natale-scuola-dellinfanzia-nido-integrato-e-sezione-primavera/
CATEGORIES:Party
END:VEVENT
BEGIN:VEVENT
DTSTART;TZID=Europe/Rome:20251213T000000
DTEND;TZID=Europe/Rome:20251213T000000
DTSTAMP:20260420T202946
CREATED:20251021T142021Z
LAST-MODIFIED:20251120T150739Z
UID:1683-1765584000-1765584000@prolocomussolentecasoniaps.it
SUMMARY:6° CERIMONIA MONUMENTO CAMPO AVIAZIONE CASONI - A.A.A SEZIONE/Gr.ALPINI CASONI
DESCRIPTION:
URL:https://prolocomussolentecasoniaps.it/evento/6-cerimonia-monumento-campo-aviazione-casoni/
CATEGORIES:Cerimonia- Commemorazione
ATTACH;FMTTYPE=image/jpeg:https://prolocomussolentecasoniaps.it/wp-content/uploads/2025/10/WhatsApp-Image-2025-11-20-at-15.35.24-1.jpeg
END:VEVENT
BEGIN:VEVENT
DTSTART;TZID=Europe/Rome:20251213T080000
DTEND;TZID=Europe/Rome:20251214T170000
DTSTAMP:20260420T202946
CREATED:20251201T204447Z
LAST-MODIFIED:20251201T204841Z
UID:2273-1765612800-1765731600@prolocomussolentecasoniaps.it
SUMMARY:Mercatini di Natale
DESCRIPTION:
URL:https://prolocomussolentecasoniaps.it/evento/mercatini-di-natale-2/
CATEGORIES:EVENT CATEGORY,Party
ATTACH;FMTTYPE=image/jpeg:https://prolocomussolentecasoniaps.it/wp-content/uploads/2025/12/WhatsApp-Image-2025-12-01-at-19.29.26.jpeg
END:VEVENT
BEGIN:VEVENT
DTSTART;TZID=Europe/Rome:20251215T080000
DTEND;TZID=Europe/Rome:20251216T170000
DTSTAMP:20260420T202946
CREATED:20251209T081341Z
LAST-MODIFIED:20251209T081341Z
UID:2296-1765785600-1765904400@prolocomussolentecasoniaps.it
SUMMARY:ll canto della Stella
DESCRIPTION:Il Comitato Genitori SCUOLA INFANZIA MUSSOLENTE vi annuncia il canto della stella il 9- 10- 15- 16 Dicembre per portare la Lieta Novella e i doni in tutte le case…Il 9/12 sono invitati tutti i bambini della Scuola d’infanzia
URL:https://prolocomussolentecasoniaps.it/evento/ll-canto-della-stella/
LOCATION:Scuola dell’Infanza\, via Roma 16\, Mussolente\, 36065\, Italy
ATTACH;FMTTYPE=image/jpeg:https://prolocomussolentecasoniaps.it/wp-content/uploads/2025/12/WhatsApp-Image-2025-12-09-at-09.02.25.jpeg
END:VEVENT
BEGIN:VEVENT
DTSTART;TZID=Europe/Rome:20251219T203000
DTEND;TZID=Europe/Rome:20251219T230000
DTSTAMP:20260420T202946
CREATED:20251216T071533Z
LAST-MODIFIED:20251216T071533Z
UID:2301-1766176200-1766185200@prolocomussolentecasoniaps.it
SUMMARY:Il Natale del ConcentusOrchestra Sinfonica del Concentus
DESCRIPTION:Orchestra Sinfonica del Concentus Musicus Patavinus
URL:https://prolocomussolentecasoniaps.it/evento/il-natale-del-concentusorchestra-sinfonica-del-concentus/
LOCATION:Chiesa di san Rocco Casoni di Mussolente\, via Papa Giovanni XXIII\, Casoni di Mussolente\, 36065\, Italy
ATTACH;FMTTYPE=image/jpeg:https://prolocomussolentecasoniaps.it/wp-content/uploads/2025/12/WhatsApp-Image-2025-12-16-at-08.00.48.jpeg
END:VEVENT
BEGIN:VEVENT
DTSTART;TZID=Europe/Rome:20251226T000000
DTEND;TZID=Europe/Rome:20251226T000000
DTSTAMP:20260420T202946
CREATED:20251021T142022Z
LAST-MODIFIED:20251117T211202Z
UID:1684-1766707200-1766707200@prolocomussolentecasoniaps.it
SUMMARY:NOTTE DI NATALE -BEVANDE CALDE
DESCRIPTION:
URL:https://prolocomussolentecasoniaps.it/evento/notte-di-natale-bevande-calde/
END:VEVENT
BEGIN:VEVENT
DTSTART;TZID=Europe/Rome:20251226T183000
DTEND;TZID=Europe/Rome:20251226T183000
DTSTAMP:20260420T202946
CREATED:20251225T081207Z
LAST-MODIFIED:20251227T135544Z
UID:2335-1766773800-1766773800@prolocomussolentecasoniaps.it
SUMMARY:Concerto di Natale
DESCRIPTION:Ingresso libero
URL:https://prolocomussolentecasoniaps.it/evento/concerto-di-narale/
LOCATION:Chiesa parrocchiale Mussolente\, Via Vescovo dal Monte\, 14\, Mussolente\, 36065\, Italy
ATTACH;FMTTYPE=image/jpeg:https://prolocomussolentecasoniaps.it/wp-content/uploads/2025/12/IMG-20251225-WA0008.jpg
END:VEVENT
END:VCALENDAR